BEGIN:VCALENDAR
VERSION:2.0
PRODID:-//Sabre//Sabre VObject 4.5.8//EN
CALSCALE:GREGORIAN
BEGIN:VEVENT
UID:sabre-vobject-6ed32362-924a-4130-92c7-3bbda5fcc792
DTSTAMP:20260421T114004Z
SUMMARY:Vom bunten Treiben im Schloss
DESCRIPTION:https://neuburg-donau.info/veranstaltungen/vom-bunten-treiben-i
 m-schloss_id28932
DTSTART;TZID=Europe/Berlin:20250101T000000
DTEND;TZID=Europe/Berlin:20271231T000000
LOCATION:Residenzschloss Neuburg\, Residenzstraße 2\, 86633 Neuburg an der
  Donau
END:VEVENT
END:VCALENDAR
