BEGIN:VCALENDAR
VERSION:2.0
PRODID:-//Sabre//Sabre VObject 4.5.8//EN
CALSCALE:GREGORIAN
BEGIN:VEVENT
UID:sabre-vobject-7f8406f8-43c1-4eb7-84cf-f8000638dc8c
DTSTAMP:20260423T090251Z
SUMMARY:Wie lebten die Menschen früher?
DESCRIPTION:https://neuburg-donau.info/veranstaltungen/wie-lebten-die-mensc
 hen-frueher_id28943
DTSTART;TZID=Europe/Berlin:20250101T000000
DTEND;TZID=Europe/Berlin:20271231T000000
LOCATION:Tourist-Information\, Ottheinrichplatz A 118\, 86633 Neuburg
END:VEVENT
END:VCALENDAR
