BEGIN:VCALENDAR
VERSION:2.0
PRODID:-//Sabre//Sabre VObject 4.5.8//EN
CALSCALE:GREGORIAN
BEGIN:VEVENT
UID:sabre-vobject-f58d7080-7387-4275-b146-7796533e869c
DTSTAMP:20260420T054726Z
SUMMARY:Das Fürstentum Pfalz-Neuburg
DESCRIPTION:https://neuburg-donau.info/veranstaltungen/das-fuerstentum-pfal
 z-neuburg_id3444
DTSTART;TZID=Europe/Berlin:20250101T000000
DTEND;TZID=Europe/Berlin:20271231T000000
LOCATION:Residenzschloss Neuburg\, Residenzstraße 2\, 86633 Neuburg an der
  Donau
END:VEVENT
END:VCALENDAR
