BEGIN:VCALENDAR
VERSION:2.0
PRODID:-//Sabre//Sabre VObject 4.5.8//EN
CALSCALE:GREGORIAN
BEGIN:VEVENT
UID:sabre-vobject-6953baab-a818-4db1-8558-d51944a89b18
DTSTAMP:20260422T090313Z
SUMMARY:Der letzte Schrei
DESCRIPTION:https://neuburg-donau.info/veranstaltungen/der-letzte-schrei_id
 3449
DTSTART;TZID=Europe/Berlin:20250101T000000
DTEND;TZID=Europe/Berlin:20271231T000000
LOCATION:Residenzschloss Neuburg\, Residenzstraße 2\, 86633 Neuburg an der
  Donau
END:VEVENT
END:VCALENDAR
