BEGIN:VCALENDAR
VERSION:2.0
PRODID:-//Sabre//Sabre VObject 4.5.8//EN
CALSCALE:GREGORIAN
BEGIN:VEVENT
UID:sabre-vobject-7b292fb6-c6d2-4ddb-ba6e-bc3f31fed726
DTSTAMP:20260424T085133Z
SUMMARY:Das Leben am Hof
DESCRIPTION:https://neuburg-donau.info/veranstaltungen/das-leben-am-hof_id3
 451
DTSTART;TZID=Europe/Berlin:20250101T000000
DTEND;TZID=Europe/Berlin:20271231T000000
LOCATION:Residenzschloss Neuburg\, Residenzstraße 2\, 86633 Neuburg an der
  Donau
END:VEVENT
END:VCALENDAR
