BEGIN:VCALENDAR
VERSION:2.0
PRODID:-//Sabre//Sabre VObject 4.5.8//EN
CALSCALE:GREGORIAN
BEGIN:VEVENT
UID:sabre-vobject-8d1efe44-f024-4252-b2ce-a4b96235118f
DTSTAMP:20260419T174746Z
SUMMARY:Münster Hl. Kreuz in Bergen
DESCRIPTION:https://neuburg-donau.info/veranstaltungen/muenster-hl-kreuz-in
 -bergen_id3459
DTSTART;TZID=Europe/Berlin:20250101T000000
DTEND;TZID=Europe/Berlin:20271231T000000
LOCATION:Das Münster Heilig Kreuz in Bergen\, Kirchplatz 3\, 86633 Neuburg
  an der Donau
END:VEVENT
END:VCALENDAR
