BEGIN:VCALENDAR
VERSION:2.0
PRODID:-//Sabre//Sabre VObject 4.5.8//EN
CALSCALE:GREGORIAN
BEGIN:VEVENT
UID:sabre-vobject-b1cc319c-9a5b-4ee8-90a5-70c17d162586
DTSTAMP:20260419T161959Z
SUMMARY:Das Neuburger Schloßfest
DESCRIPTION:https://neuburg-donau.info/veranstaltungen/das-neuburger-schlos
 sfest_id35445
DTSTART;TZID=Europe/Berlin:20270704T000000
DURATION:PT30M
LOCATION:Obere Altstadt\, \, 86633 Neuburg an der Donau
END:VEVENT
END:VCALENDAR
