BEGIN:VCALENDAR
VERSION:2.0
PRODID:-//Sabre//Sabre VObject 4.5.8//EN
CALSCALE:GREGORIAN
BEGIN:VEVENT
UID:sabre-vobject-79bf2d1c-2f0f-41b9-aeb9-c3f869dffd15
DTSTAMP:20260420T041228Z
SUMMARY:Barockes Leben
DESCRIPTION:https://neuburg-donau.info/veranstaltungen/barockes-leben_id360
 76
DTSTART;TZID=Europe/Berlin:20250101T000000
DTEND;TZID=Europe/Berlin:20271231T000000
LOCATION:Tourist-Information\, Ottheinrichplatz A 118\, 86633 Neuburg
END:VEVENT
END:VCALENDAR
