BEGIN:VCALENDAR
VERSION:2.0
PRODID:-//Sabre//Sabre VObject 4.5.8//EN
CALSCALE:GREGORIAN
BEGIN:VEVENT
UID:sabre-vobject-d9cdccf2-0504-49a1-afb3-ac13499c4682
DTSTAMP:20260421T114933Z
SUMMARY:Neuburg vor 100 Jahren!
DESCRIPTION:https://neuburg-donau.info/veranstaltungen/neuburg-vor-100-jahr
 en_id40674
DTSTART;TZID=Europe/Berlin:20260724T190000
DTEND;TZID=Europe/Berlin:20260724T203000
LOCATION:Parkplatz "Landratsamt"\, Platz-der-Deutschen-Einheit 1\, 86633 Ne
 uburg
END:VEVENT
END:VCALENDAR
