BEGIN:VCALENDAR
VERSION:2.0
PRODID:-//Sabre//Sabre VObject 4.5.8//EN
CALSCALE:GREGORIAN
BEGIN:VEVENT
UID:sabre-vobject-45a9ad43-4cd3-47fb-8ebb-8ca84c83fb86
DTSTAMP:20260420T161738Z
SUMMARY:Von Hexen\, Heilern & Halunken
DESCRIPTION:https://neuburg-donau.info/veranstaltungen/von-hexen-heilern-ha
 lunken_id40679
DTSTART;TZID=Europe/Berlin:20260710T190000
DTEND;TZID=Europe/Berlin:20260710T203000
LOCATION:Tourist-Information\, Ottheinrichplatz A 118\, 86633 Neuburg
END:VEVENT
END:VCALENDAR
