BEGIN:VCALENDAR
VERSION:2.0
PRODID:-//Sabre//Sabre VObject 4.5.8//EN
CALSCALE:GREGORIAN
BEGIN:VEVENT
UID:sabre-vobject-99b7c129-a094-41a5-85e3-44b5b0d2f1d3
DTSTAMP:20260421T114820Z
SUMMARY:Von Hexen\, Heilern & Halunken
DESCRIPTION:https://neuburg-donau.info/veranstaltungen/von-hexen-heilern-ha
 lunken_id40681
DTSTART;TZID=Europe/Berlin:20260911T190000
DTEND;TZID=Europe/Berlin:20260911T203000
LOCATION:Tourist-Information\, Ottheinrichplatz A 118\, 86633 Neuburg
END:VEVENT
END:VCALENDAR
