BEGIN:VCALENDAR
VERSION:2.0
PRODID:-//Sabre//Sabre VObject 4.5.8//EN
CALSCALE:GREGORIAN
BEGIN:VEVENT
UID:sabre-vobject-0bab5708-4989-401e-864e-befc9062486f
DTSTAMP:20260422T084424Z
SUMMARY:Nachtwächterführung
DESCRIPTION:https://neuburg-donau.info/veranstaltungen/nachtwaechterfuehrun
 g_id40683
DTSTART;TZID=Europe/Berlin:20260515T203000
DTEND;TZID=Europe/Berlin:20260515T220000
LOCATION:Tourist-Information\, Ottheinrichplatz A 118\, 86633 Neuburg
END:VEVENT
END:VCALENDAR
