BEGIN:VCALENDAR
VERSION:2.0
PRODID:-//Sabre//Sabre VObject 4.5.8//EN
CALSCALE:GREGORIAN
BEGIN:VEVENT
UID:sabre-vobject-ccc56a2c-f235-4f2a-a4c6-575c33eec718
DTSTAMP:20260421T112830Z
SUMMARY:Nachtwächterführung
DESCRIPTION:https://neuburg-donau.info/veranstaltungen/nachtwaechterfuehrun
 g_id40686
DTSTART;TZID=Europe/Berlin:20260619T203000
DTEND;TZID=Europe/Berlin:20260619T220000
LOCATION:Tourist-Information\, Ottheinrichplatz A 118\, 86633 Neuburg
END:VEVENT
END:VCALENDAR
