BEGIN:VCALENDAR
VERSION:2.0
PRODID:-//Sabre//Sabre VObject 4.5.8//EN
CALSCALE:GREGORIAN
BEGIN:VEVENT
UID:sabre-vobject-66f66011-ebf6-4f99-9ea5-6b3ce70242bf
DTSTAMP:20260422T084414Z
SUMMARY:Nachtwächterführung für Kinder
DESCRIPTION:https://neuburg-donau.info/veranstaltungen/nachtwaechterfuehrun
 g-fuer-kinder_id40860
DTSTART;TZID=Europe/Berlin:20260801T183000
DTEND;TZID=Europe/Berlin:20260801T200000
LOCATION:Tourist-Information\, Ottheinrichplatz A 118\, 86633 Neuburg
END:VEVENT
END:VCALENDAR
