BEGIN:VCALENDAR
VERSION:2.0
PRODID:-//Sabre//Sabre VObject 4.5.8//EN
CALSCALE:GREGORIAN
BEGIN:VEVENT
UID:sabre-vobject-718025ae-6743-4cff-ba5f-4fc5bdec7530
DTSTAMP:20260425T140833Z
SUMMARY:Familienmittwoch
DESCRIPTION:https://neuburg-donau.info/veranstaltungen/familienmittwoch_id4
 0866
DTSTART;TZID=Europe/Berlin:20260819T100000
DURATION:PT30M
END:VEVENT
END:VCALENDAR
