BEGIN:VCALENDAR
VERSION:2.0
PRODID:-//Sabre//Sabre VObject 4.5.8//EN
CALSCALE:GREGORIAN
BEGIN:VEVENT
UID:sabre-vobject-9c9a6031-cfd7-4ebf-81d0-417891dc6b38
DTSTAMP:20260420T173624Z
SUMMARY:Walpurgisnacht – vom Treiben der Hexen
DESCRIPTION:https://neuburg-donau.info/veranstaltungen/walpurgisnacht-vom-t
 reiben-der-hexen_id41688
DTSTART;TZID=Europe/Berlin:20260430T203000
DTEND;TZID=Europe/Berlin:20260430T220000
LOCATION:Tourist-Information\, Ottheinrichplatz A 118\, 86633 Neuburg
END:VEVENT
END:VCALENDAR
