BEGIN:VCALENDAR
VERSION:2.0
PRODID:-//Sabre//Sabre VObject 4.5.8//EN
CALSCALE:GREGORIAN
BEGIN:VEVENT
UID:sabre-vobject-92bdbf4d-ee86-4bd0-89cc-d42474ec3edd
DTSTAMP:20260421T131126Z
SUMMARY:Unterwegs mit Donaunixe Danubia
DESCRIPTION:https://neuburg-donau.info/veranstaltungen/unterwegs-mit-donaun
 ixe-danubia_id41921
DTSTART;TZID=Europe/Berlin:20260424T160000
DTEND;TZID=Europe/Berlin:20260424T183000
LOCATION:Parkplatz "Schlösslwiese"\, Ringmeierbucht\, 86633 Neuburg
END:VEVENT
END:VCALENDAR
