BEGIN:VCALENDAR
VERSION:2.0
PRODID:-//Sabre//Sabre VObject 4.5.8//EN
CALSCALE:GREGORIAN
BEGIN:VEVENT
UID:sabre-vobject-ec39d10a-b03b-4e5e-af73-bf3d1e56fc6c
DTSTAMP:20260422T103244Z
SUMMARY:Donauspaziergang mit dem Donauweibchen Danubia
DESCRIPTION:https://neuburg-donau.info/veranstaltungen/donauspaziergang-mit
 -dem-donauweibchen-danubia_id41922
DTSTART;TZID=Europe/Berlin:20261002T160000
DTEND;TZID=Europe/Berlin:20261002T183000
LOCATION:Parkplatz "Schlösslwiese"\, Ringmeierbucht\, 86633 Neuburg
END:VEVENT
END:VCALENDAR
