BEGIN:VCALENDAR
VERSION:2.0
PRODID:-//Sabre//Sabre VObject 4.5.8//EN
CALSCALE:GREGORIAN
BEGIN:VEVENT
UID:sabre-vobject-2e7bd43b-6161-4b9a-b98d-c65970ca151f
DTSTAMP:20260424T165428Z
SUMMARY:Mein Name ist Erling
DESCRIPTION:https://neuburg-donau.info/veranstaltungen/mein-name-ist-erling
 _id47548
DTSTART;TZID=Europe/Berlin:20251209T200000
DURATION:PT30M
LOCATION:Stadttheater\, Residenzstraße A67\, 86633 Neuburg an der Donau
END:VEVENT
END:VCALENDAR
