BEGIN:VCALENDAR
VERSION:2.0
PRODID:-//Sabre//Sabre VObject 4.5.8//EN
CALSCALE:GREGORIAN
BEGIN:VEVENT
UID:sabre-vobject-f568e9a0-23de-4312-a0c6-68cf37292363
DTSTAMP:20260424T150918Z
SUMMARY:Jesus liebt mich
DESCRIPTION:https://neuburg-donau.info/veranstaltungen/jesus-liebt-mich_id4
 7550
DTSTART;TZID=Europe/Berlin:20251216T200000
DURATION:PT30M
LOCATION:Stadttheater\, Residenzstraße A67\, 86633 Neuburg an der Donau
END:VEVENT
END:VCALENDAR
