BEGIN:VCALENDAR
VERSION:2.0
PRODID:-//Sabre//Sabre VObject 4.5.8//EN
CALSCALE:GREGORIAN
BEGIN:VEVENT
UID:sabre-vobject-833bd485-74c1-469c-975e-b588edf45924
DTSTAMP:20260424T132144Z
SUMMARY:Die Fledermaus
DESCRIPTION:https://neuburg-donau.info/veranstaltungen/die-fledermaus_id475
 53
DTSTART;TZID=Europe/Berlin:20260119T200000
DURATION:PT30M
LOCATION:Stadttheater\, Residenzstraße A67\, 86633 Neuburg an der Donau
END:VEVENT
END:VCALENDAR
