BEGIN:VCALENDAR
VERSION:2.0
PRODID:-//Sabre//Sabre VObject 4.5.8//EN
CALSCALE:GREGORIAN
BEGIN:VEVENT
UID:sabre-vobject-bcc6b2eb-640c-4abb-82fd-790570f4d545
DTSTAMP:20260424T110408Z
SUMMARY:Die Tanzstunde
DESCRIPTION:https://neuburg-donau.info/veranstaltungen/die-tanzstunde_id475
 56
DTSTART;TZID=Europe/Berlin:20260125T200000
DURATION:PT30M
LOCATION:Stadttheater\, Residenzstraße A67\, 86633 Neuburg an der Donau
END:VEVENT
END:VCALENDAR
