BEGIN:VCALENDAR
VERSION:2.0
PRODID:-//Sabre//Sabre VObject 4.5.8//EN
CALSCALE:GREGORIAN
BEGIN:VEVENT
UID:sabre-vobject-a11f96c7-2c55-47ab-b488-cdecb9716b52
DTSTAMP:20260420T182518Z
SUMMARY:Holger Paetz - Fürchtet euch!
DESCRIPTION:https://neuburg-donau.info/veranstaltungen/holger-paetz-fuercht
 et-euch_id47565
DTSTART;TZID=Europe/Berlin:20260221T200000
DURATION:PT30M
LOCATION:Stadttheater\, Residenzstraße A67\, 86633 Neuburg an der Donau
END:VEVENT
END:VCALENDAR
