BEGIN:VCALENDAR
VERSION:2.0
PRODID:-//Sabre//Sabre VObject 4.5.8//EN
CALSCALE:GREGORIAN
BEGIN:VEVENT
UID:sabre-vobject-cdd61cab-55f0-4be1-9a4b-2c09c885b785
DTSTAMP:20260420T164320Z
SUMMARY:Black Mountain
DESCRIPTION:https://neuburg-donau.info/veranstaltungen/black-mountain_id475
 67
DTSTART;TZID=Europe/Berlin:20260301T200000
DURATION:PT30M
LOCATION:Stadttheater\, Residenzstraße A67\, 86633 Neuburg an der Donau
END:VEVENT
END:VCALENDAR
