BEGIN:VCALENDAR
VERSION:2.0
PRODID:-//Sabre//Sabre VObject 4.5.8//EN
CALSCALE:GREGORIAN
BEGIN:VEVENT
UID:sabre-vobject-ba4962f1-c3c7-45d8-bcdd-9a7793ab1e33
DTSTAMP:20260420T151331Z
SUMMARY:Vater hat Lager
DESCRIPTION:https://neuburg-donau.info/veranstaltungen/vater-hat-lager_id47
 569
DTSTART;TZID=Europe/Berlin:20260306T200000
DURATION:PT30M
LOCATION:Stadttheater\, Residenzstraße A67\, 86633 Neuburg an der Donau
END:VEVENT
END:VCALENDAR
