BEGIN:VCALENDAR
VERSION:2.0
PRODID:-//Sabre//Sabre VObject 4.5.8//EN
CALSCALE:GREGORIAN
BEGIN:VEVENT
UID:sabre-vobject-dcfde2fe-4d4b-40bc-a189-b80adb3fa9a1
DTSTAMP:20260420T134551Z
SUMMARY:Lola Blau
DESCRIPTION:https://neuburg-donau.info/veranstaltungen/lola-blau_id47570
DTSTART;TZID=Europe/Berlin:20260325T200000
DURATION:PT30M
LOCATION:Stadttheater\, Residenzstraße A67\, 86633 Neuburg an der Donau
END:VEVENT
END:VCALENDAR
