BEGIN:VCALENDAR
VERSION:2.0
PRODID:-//Sabre//Sabre VObject 4.5.8//EN
CALSCALE:GREGORIAN
BEGIN:VEVENT
UID:sabre-vobject-621bfb85-c11e-4670-9447-7992981669a9
DTSTAMP:20260424T091434Z
SUMMARY:Die Wirklichkeit ist nicht alles
DESCRIPTION:https://neuburg-donau.info/veranstaltungen/die-wirklichkeit-ist
 -nicht-alles_id47572
DTSTART;TZID=Europe/Berlin:20260408T200000
DURATION:PT30M
LOCATION:Stadttheater\, Residenzstraße A67\, 86633 Neuburg an der Donau
END:VEVENT
END:VCALENDAR
