BEGIN:VCALENDAR
VERSION:2.0
PRODID:-//Sabre//Sabre VObject 4.5.8//EN
CALSCALE:GREGORIAN
BEGIN:VEVENT
UID:sabre-vobject-78302e8d-6054-419e-bb28-8ffbd73473ac
DTSTAMP:20260421T171034Z
SUMMARY:Wunderheiler
DESCRIPTION:https://neuburg-donau.info/veranstaltungen/wunderheiler_id47574
DTSTART;TZID=Europe/Berlin:20260419T200000
DURATION:PT30M
LOCATION:Stadttheater\, Residenzstraße A67\, 86633 Neuburg an der Donau
END:VEVENT
END:VCALENDAR
