BEGIN:VCALENDAR
VERSION:2.0
PRODID:-//Sabre//Sabre VObject 4.5.8//EN
CALSCALE:GREGORIAN
BEGIN:VEVENT
UID:sabre-vobject-cb69e16c-6ccc-4774-98b8-6544ff7b018d
DTSTAMP:20260423T090326Z
SUMMARY:180 Jahre Schützenverein "Erheiterung" Neuburg
DESCRIPTION:https://neuburg-donau.info/veranstaltungen/180-jahre-schuetzenv
 erein-erheiterung-neuburg_id48117
DTSTART;TZID=Europe/Berlin:20251105T100000
DTEND;TZID=Europe/Berlin:20251105T180000
LOCATION:Stadtmuseum Neuburg an der Donau\, Amalienstraße  19\, 86633 Neub
 urg an der Donau
END:VEVENT
END:VCALENDAR
