BEGIN:VCALENDAR
VERSION:2.0
PRODID:-//Sabre//Sabre VObject 4.5.8//EN
CALSCALE:GREGORIAN
BEGIN:VEVENT
UID:sabre-vobject-aeae323d-dc30-4eed-9ec6-ee9b7c8c83d4
DTSTAMP:20260420T201613Z
SUMMARY:180 Jahre Schützenverein "Erheiterung" Neuburg
DESCRIPTION:https://neuburg-donau.info/veranstaltungen/180-jahre-schuetzenv
 erein-erheiterung-neuburg_id48128
DTSTART;TZID=Europe/Berlin:20251120T100000
DTEND;TZID=Europe/Berlin:20251120T180000
LOCATION:Stadtmuseum Neuburg an der Donau\, Amalienstraße  19\, 86633 Neub
 urg an der Donau
END:VEVENT
END:VCALENDAR
