BEGIN:VCALENDAR
VERSION:2.0
PRODID:-//Sabre//Sabre VObject 4.5.8//EN
CALSCALE:GREGORIAN
BEGIN:VEVENT
UID:sabre-vobject-ff778661-9455-409c-8b50-07ff70b2e462
DTSTAMP:20260420T221847Z
SUMMARY:180 Jahre Schützenverein "Erheiterung" Neuburg
DESCRIPTION:https://neuburg-donau.info/veranstaltungen/180-jahre-schuetzenv
 erein-erheiterung-neuburg_id48135
DTSTART;TZID=Europe/Berlin:20251107T100000
DTEND;TZID=Europe/Berlin:20251107T180000
LOCATION:Stadtmuseum Neuburg an der Donau\, Amalienstraße  19\, 86633 Neub
 urg an der Donau
END:VEVENT
END:VCALENDAR
