BEGIN:VCALENDAR
VERSION:2.0
PRODID:-//Sabre//Sabre VObject 4.5.8//EN
CALSCALE:GREGORIAN
BEGIN:VEVENT
UID:sabre-vobject-03245a75-7b30-45ce-a580-c2f9b30d497e
DTSTAMP:20260422T210931Z
SUMMARY:180 Jahre Schützenverein "Erheiterung" Neuburg
DESCRIPTION:https://neuburg-donau.info/veranstaltungen/180-jahre-schuetzenv
 erein-erheiterung-neuburg_id48138
DTSTART;TZID=Europe/Berlin:20251128T100000
DTEND;TZID=Europe/Berlin:20251128T180000
LOCATION:Stadtmuseum Neuburg an der Donau\, Amalienstraße  19\, 86633 Neub
 urg an der Donau
END:VEVENT
END:VCALENDAR
