BEGIN:VCALENDAR
VERSION:2.0
PRODID:-//Sabre//Sabre VObject 4.5.8//EN
CALSCALE:GREGORIAN
BEGIN:VEVENT
UID:sabre-vobject-9063ed69-5727-40ff-a1af-a47946edb3b1
DTSTAMP:20260421T062056Z
SUMMARY:180 Jahre Schützenverein "Erheiterung" Neuburg
DESCRIPTION:https://neuburg-donau.info/veranstaltungen/180-jahre-schuetzenv
 erein-erheiterung-neuburg_id48143
DTSTART;TZID=Europe/Berlin:20251101T100000
DTEND;TZID=Europe/Berlin:20251101T180000
LOCATION:Stadtmuseum Neuburg an der Donau\, Amalienstraße  19\, 86633 Neub
 urg an der Donau
END:VEVENT
END:VCALENDAR
