BEGIN:VCALENDAR
VERSION:2.0
PRODID:-//Sabre//Sabre VObject 4.5.8//EN
CALSCALE:GREGORIAN
BEGIN:VEVENT
UID:sabre-vobject-f797d33b-5db4-4b6c-801f-1440394d3c87
DTSTAMP:20260424T151402Z
SUMMARY:Alleinerziehenden-Treff „Powerbank“
DESCRIPTION:https://neuburg-donau.info/veranstaltungen/alleinerziehenden-tr
 eff-powerbank_id48863
DTSTART;TZID=Europe/Berlin:20251128T160000
DTEND;TZID=Europe/Berlin:20251128T180000
LOCATION:Bürgerhaus Schwalbanger\, Richard-Wagner-Straße 6\, 86633 Neubur
 g an der Donau
END:VEVENT
END:VCALENDAR
