BEGIN:VCALENDAR
VERSION:2.0
PRODID:-//Sabre//Sabre VObject 4.5.8//EN
CALSCALE:GREGORIAN
BEGIN:VEVENT
UID:sabre-vobject-df9078a1-922c-4f30-af7f-a33347fc160e
DTSTAMP:20260424T094901Z
SUMMARY:Jahresausstellung des Neuburger Kunstkreises e.V.
DESCRIPTION:https://neuburg-donau.info/veranstaltungen/jahresausstellung-de
 s-neuburger-kunstkreises-e-v_id48999
DTSTART;TZID=Europe/Berlin:20260918T170000
DTEND;TZID=Europe/Berlin:20260918T190000
LOCATION:Städtische Galerie im Fürstengang und Rathausfletz\, \, 86633 Ne
 uburg an der Donau
END:VEVENT
END:VCALENDAR
