BEGIN:VCALENDAR
VERSION:2.0
PRODID:-//Sabre//Sabre VObject 4.5.8//EN
CALSCALE:GREGORIAN
BEGIN:VEVENT
UID:sabre-vobject-b3dcef62-433b-4733-be20-ae4d8b4aeb88
DTSTAMP:20260425T103006Z
SUMMARY:Wochenmarkt
DESCRIPTION:https://neuburg-donau.info/veranstaltungen/wochenmarkt_id49283
DTSTART;TZID=Europe/Berlin:20260325T063000
DTEND;TZID=Europe/Berlin:20260325T123000
LOCATION:Schrannenplatz\, Schrannenplatz\, 86633 Neuburg an der Donau
END:VEVENT
END:VCALENDAR
