BEGIN:VCALENDAR
VERSION:2.0
PRODID:-//Sabre//Sabre VObject 4.5.8//EN
CALSCALE:GREGORIAN
BEGIN:VEVENT
UID:sabre-vobject-5b209ee9-4cd0-492a-afde-166eed8900d0
DTSTAMP:20260421T152510Z
SUMMARY:Wochenmarkt
DESCRIPTION:https://neuburg-donau.info/veranstaltungen/wochenmarkt_id49285
DTSTART;TZID=Europe/Berlin:20260408T063000
DTEND;TZID=Europe/Berlin:20260408T123000
LOCATION:Schrannenplatz\, Schrannenplatz\, 86633 Neuburg an der Donau
END:VEVENT
END:VCALENDAR
