BEGIN:VCALENDAR
VERSION:2.0
PRODID:-//Sabre//Sabre VObject 4.5.8//EN
CALSCALE:GREGORIAN
BEGIN:VEVENT
UID:sabre-vobject-7c3c9fc0-1323-4a8a-9d62-1c0948b7334e
DTSTAMP:20260420T120805Z
SUMMARY:Wochenmarkt
DESCRIPTION:https://neuburg-donau.info/veranstaltungen/wochenmarkt_id49316
DTSTART;TZID=Europe/Berlin:20261111T063000
DTEND;TZID=Europe/Berlin:20261111T123000
LOCATION:Schrannenplatz\, Schrannenplatz\, 86633 Neuburg an der Donau
END:VEVENT
END:VCALENDAR
