BEGIN:VCALENDAR
VERSION:2.0
PRODID:-//Sabre//Sabre VObject 4.5.8//EN
CALSCALE:GREGORIAN
BEGIN:VEVENT
UID:sabre-vobject-cf89245c-3bc1-41f2-99d5-3199ff9f9a55
DTSTAMP:20260420T085505Z
SUMMARY:Wochenmarkt
DESCRIPTION:https://neuburg-donau.info/veranstaltungen/wochenmarkt_id49317
DTSTART;TZID=Europe/Berlin:20261118T063000
DTEND;TZID=Europe/Berlin:20261118T123000
LOCATION:Schrannenplatz\, Schrannenplatz\, 86633 Neuburg an der Donau
END:VEVENT
END:VCALENDAR
