BEGIN:VCALENDAR
VERSION:2.0
PRODID:-//Sabre//Sabre VObject 4.5.8//EN
CALSCALE:GREGORIAN
BEGIN:VEVENT
UID:sabre-vobject-1cec0f8a-4d10-4e0f-b70b-91f8a262fd5c
DTSTAMP:20260421T171200Z
SUMMARY:Wochenmarkt
DESCRIPTION:https://neuburg-donau.info/veranstaltungen/wochenmarkt_id49337
DTSTART;TZID=Europe/Berlin:20260404T063000
DTEND;TZID=Europe/Berlin:20260404T123000
LOCATION:Schrannenplatz\, Schrannenplatz\, 86633 Neuburg an der Donau
END:VEVENT
END:VCALENDAR
