BEGIN:VCALENDAR
VERSION:2.0
PRODID:-//Sabre//Sabre VObject 4.5.8//EN
CALSCALE:GREGORIAN
BEGIN:VEVENT
UID:sabre-vobject-c9440076-0659-4e16-96d4-2df053e50534
DTSTAMP:20260420T085547Z
SUMMARY:Alle Jahre wieder!
DESCRIPTION:https://neuburg-donau.info/veranstaltungen/alle-jahre-wieder_id
 49680
DTSTART;TZID=Europe/Berlin:20261226T140000
DTEND;TZID=Europe/Berlin:20261226T153000
LOCATION:Tourist-Information\, Ottheinrichplatz A 118\, 86633 Neuburg
END:VEVENT
END:VCALENDAR
