BEGIN:VCALENDAR
VERSION:2.0
PRODID:-//Sabre//Sabre VObject 4.5.8//EN
CALSCALE:GREGORIAN
BEGIN:VEVENT
UID:sabre-vobject-dcb82af2-e776-4b8c-a8b1-c4c74cb63828
DTSTAMP:20260421T105955Z
SUMMARY:Tatort Altstadt
DESCRIPTION:https://neuburg-donau.info/veranstaltungen/tatort-altstadt_id49
 685
DTSTART;TZID=Europe/Berlin:20260509T190000
DTEND;TZID=Europe/Berlin:20260509T203000
LOCATION:Tourist-Information\, Ottheinrichplatz A 118\, 86633 Neuburg
END:VEVENT
END:VCALENDAR
