BEGIN:VCALENDAR
VERSION:2.0
PRODID:-//Sabre//Sabre VObject 4.5.8//EN
CALSCALE:GREGORIAN
BEGIN:VEVENT
UID:sabre-vobject-2d348fa1-bbb5-42cd-b09e-da96b4159ebd
DTSTAMP:20260420T041639Z
SUMMARY:Tatort Altstadt
DESCRIPTION:https://neuburg-donau.info/veranstaltungen/tatort-altstadt_id49
 686
DTSTART;TZID=Europe/Berlin:20260613T190000
DTEND;TZID=Europe/Berlin:20260613T203000
LOCATION:Tourist-Information\, Ottheinrichplatz A 118\, 86633 Neuburg
END:VEVENT
END:VCALENDAR
