BEGIN:VCALENDAR
VERSION:2.0
PRODID:-//Sabre//Sabre VObject 4.5.8//EN
CALSCALE:GREGORIAN
BEGIN:VEVENT
UID:sabre-vobject-cc239bf4-80fd-469d-8498-c793e2c74cf7
DTSTAMP:20260420T060423Z
SUMMARY:Tatort Altstadt
DESCRIPTION:https://neuburg-donau.info/veranstaltungen/tatort-altstadt_id49
 687
DTSTART;TZID=Europe/Berlin:20260711T190000
DTEND;TZID=Europe/Berlin:20260711T203000
LOCATION:Tourist-Information\, Ottheinrichplatz A 118\, 86633 Neuburg
END:VEVENT
END:VCALENDAR
