BEGIN:VCALENDAR
VERSION:2.0
PRODID:-//Sabre//Sabre VObject 4.5.8//EN
CALSCALE:GREGORIAN
BEGIN:VEVENT
UID:sabre-vobject-3e988df5-f598-4fe8-b4ba-dd49766bc07b
DTSTAMP:20260420T042158Z
SUMMARY:Tatort Altstadt
DESCRIPTION:https://neuburg-donau.info/veranstaltungen/tatort-altstadt_id49
 689
DTSTART;TZID=Europe/Berlin:20260912T190000
DTEND;TZID=Europe/Berlin:20260912T203000
LOCATION:Tourist-Information\, Ottheinrichplatz A 118\, 86633 Neuburg
END:VEVENT
END:VCALENDAR
