BEGIN:VCALENDAR
VERSION:2.0
PRODID:-//Sabre//Sabre VObject 4.5.8//EN
CALSCALE:GREGORIAN
BEGIN:VEVENT
UID:sabre-vobject-d7b6ee6d-628b-42b1-8313-77e7630185f4
DTSTAMP:20260420T040502Z
SUMMARY:Tatort Altstadt
DESCRIPTION:https://neuburg-donau.info/veranstaltungen/tatort-altstadt_id49
 690
DTSTART;TZID=Europe/Berlin:20261010T190000
DTEND;TZID=Europe/Berlin:20261010T203000
LOCATION:Tourist-Information\, Ottheinrichplatz A 118\, 86633 Neuburg
END:VEVENT
END:VCALENDAR
