BEGIN:VCALENDAR
VERSION:2.0
PRODID:-//Sabre//Sabre VObject 4.5.8//EN
CALSCALE:GREGORIAN
BEGIN:VEVENT
UID:sabre-vobject-19f2bdac-f38c-4602-9c0d-5d80f1fbca61
DTSTAMP:20260423T090321Z
SUMMARY:Von Hexen\, Heilern & Halunken
DESCRIPTION:https://neuburg-donau.info/veranstaltungen/von-hexen-heilern-ha
 lunken_id49695
DTSTART;TZID=Europe/Berlin:20261009T190000
DTEND;TZID=Europe/Berlin:20261009T203000
LOCATION:Tourist-Information\, Ottheinrichplatz A 118\, 86633 Neuburg
END:VEVENT
END:VCALENDAR
