BEGIN:VCALENDAR
VERSION:2.0
PRODID:-//Sabre//Sabre VObject 4.5.8//EN
CALSCALE:GREGORIAN
BEGIN:VEVENT
UID:sabre-vobject-90c68463-c63f-435c-9f72-d5138b81c403
DTSTAMP:20260420T032502Z
SUMMARY:Von der Alten Kaserne zum neuen Campus
DESCRIPTION:https://neuburg-donau.info/veranstaltungen/von-der-alten-kasern
 e-zum-neuen-campus_id49696
DTSTART;TZID=Europe/Berlin:20260501T170000
DTEND;TZID=Europe/Berlin:20260501T183000
LOCATION:Parkplatz "Landratsamt"\, Platz-der-Deutschen-Einheit 1\, 86633 Ne
 uburg
END:VEVENT
END:VCALENDAR
