BEGIN:VCALENDAR
VERSION:2.0
PRODID:-//Sabre//Sabre VObject 4.5.8//EN
CALSCALE:GREGORIAN
BEGIN:VEVENT
UID:sabre-vobject-47717bb8-4c09-4f04-adee-3d7785f441e9
DTSTAMP:20260420T053553Z
SUMMARY:Von der Alten Kaserne zum neuen Campus
DESCRIPTION:https://neuburg-donau.info/veranstaltungen/von-der-alten-kasern
 e-zum-neuen-campus_id49699
DTSTART;TZID=Europe/Berlin:20260807T170000
DTEND;TZID=Europe/Berlin:20260807T183000
LOCATION:Parkplatz "Landratsamt"\, Platz-der-Deutschen-Einheit 1\, 86633 Ne
 uburg
END:VEVENT
END:VCALENDAR
