BEGIN:VCALENDAR
VERSION:2.0
PRODID:-//Sabre//Sabre VObject 4.5.8//EN
CALSCALE:GREGORIAN
BEGIN:VEVENT
UID:sabre-vobject-3cd385df-c312-4445-848e-29378e4a5631
DTSTAMP:20260420T053103Z
SUMMARY:Von der Alten Kaserne zum neuen Campus
DESCRIPTION:https://neuburg-donau.info/veranstaltungen/von-der-alten-kasern
 e-zum-neuen-campus_id49700
DTSTART;TZID=Europe/Berlin:20260904T170000
DTEND;TZID=Europe/Berlin:20260904T183000
LOCATION:Parkplatz "Landratsamt"\, Platz-der-Deutschen-Einheit 1\, 86633 Ne
 uburg
END:VEVENT
END:VCALENDAR
